BEGIN:VCALENDAR
VERSION:2.0
BEGIN:VEVENT
UID:ics69e730ea12e40
DTSTAMP:20260421T081018Z
LOCATION:
DESCRIPTION:
URL:https://www.junge-nordkirche.de/programm/weiterbildung-schulseelsorge/
SUMMARY:Weiterbildung Schulseelsorge
DTSTART:20210519T220000Z
DTEND:19691231T210000Z
END:VEVENT
END:VCALENDAR
