BEGIN:VCALENDAR
VERSION:2.0
BEGIN:VEVENT
UID:ics69e74af126344
DTSTAMP:20260421T100121Z
LOCATION:
DESCRIPTION:
URL:https://www.junge-nordkirche.de/programm/verletzte-seele-schulpflichtverletzung/
SUMMARY:Verletzte Seele / Schulpflichtverletzung 
DTSTART:20210219T133000Z
DTEND:19691231T210000Z
END:VEVENT
END:VCALENDAR
