BEGIN:VCALENDAR
VERSION:2.0
BEGIN:VEVENT
UID:ics69e730ac885ba
DTSTAMP:20260421T080916Z
LOCATION:St. Marien Lübeck
DESCRIPTION:
URL:https://www.junge-nordkirche.de/programm/verabschiedung/
SUMMARY:Verabschiedung Annika Woydack
DTSTART:20241008T160000Z
DTEND:20241008T190000Z
END:VEVENT
END:VCALENDAR
