BEGIN:VCALENDAR
VERSION:2.0
BEGIN:VEVENT
UID:ics69e731ac5a050
DTSTAMP:20260421T081332Z
LOCATION:Martinshaus\, Rendsburg
DESCRIPTION:
URL:https://www.junge-nordkirche.de/programm/verabschiedung-martina/
SUMMARY:Verabschiedung Martina Heesch
DTSTART:20241104T152300Z
DTEND:20241104T180800Z
END:VEVENT
END:VCALENDAR
