BEGIN:VCALENDAR
VERSION:2.0
BEGIN:VEVENT
UID:ics69e7302851253
DTSTAMP:20260421T080704Z
LOCATION:Christophorushaus\, Bäk
DESCRIPTION:
URL:https://www.junge-nordkirche.de/programm/toleranz-um-jeden-preis-streitkultur-und-rote-linien/
SUMMARY:Toleranz um jeden Preis? Streitkultur und Rote Linien
DTSTART:20230925T110000Z
DTEND:20230926T110000Z
END:VEVENT
END:VCALENDAR
