BEGIN:VCALENDAR
VERSION:2.0
BEGIN:VEVENT
UID:ics69e731ffa4816
DTSTAMP:20260421T081455Z
LOCATION:
DESCRIPTION:
URL:https://www.junge-nordkirche.de/programm/teamtreffen-chat-beratung/
SUMMARY:Teamtreffen Chat-Beratung
DTSTART:20221114T150000Z
DTEND:20221114T173000Z
END:VEVENT
END:VCALENDAR
