BEGIN:VCALENDAR
VERSION:2.0
BEGIN:VEVENT
UID:ics69e748625893e
DTSTAMP:20260421T095026Z
LOCATION:
DESCRIPTION:
URL:https://www.junge-nordkirche.de/programm/seelsorge-mit-konfis-und-jugendlichen/
SUMMARY:Seelsorge mit Konfis und Jugendlichen
DTSTART:20221117T080000Z
DTEND:20221117T150000Z
END:VEVENT
END:VCALENDAR
