BEGIN:VCALENDAR
VERSION:2.0
BEGIN:VEVENT
UID:ics69e734aba1e27
DTSTAMP:20260421T082619Z
LOCATION:St. Ansgarhaus\, Hamburg
DESCRIPTION:
URL:https://www.junge-nordkirche.de/programm/schulseelsorge-konvent/
SUMMARY:Schulseelsorge Konvent
DTSTART:20220909T140000Z
DTEND:20220910T140000Z
END:VEVENT
END:VCALENDAR
