BEGIN:VCALENDAR
VERSION:2.0
BEGIN:VEVENT
UID:ics69e72f56c6648
DTSTAMP:20260421T080334Z
LOCATION:Digital
DESCRIPTION:
URL:https://www.junge-nordkirche.de/programm/rassismus-sensible-schulseelsorge/
SUMMARY:Rassismus sensible Schulseelsorge
DTSTART:20250409T143000Z
DTEND:20250409T160000Z
END:VEVENT
END:VCALENDAR
