BEGIN:VCALENDAR
VERSION:2.0
BEGIN:VEVENT
UID:ics69ea988c5ea00
DTSTAMP:20260423T220916Z
LOCATION:wechselnde Orte
DESCRIPTION:
URL:https://www.junge-nordkirche.de/programm/ralley/
SUMMARY:Die Rallye
DTSTART:20240802T160000Z
DTEND:20240811T120000Z
END:VEVENT
END:VCALENDAR
