BEGIN:VCALENDAR
VERSION:2.0
BEGIN:VEVENT
UID:ics69ea80d23029a
DTSTAMP:20260423T202802Z
LOCATION:
DESCRIPTION:
URL:https://www.junge-nordkirche.de/programm/queersensible-arbeit-mit-kindern-und-jugendlichen/
SUMMARY:Queersensible Arbeit mit Kindern und Jugendlichen 
DTSTART:20260120T133000Z
DTEND:20260120T150000Z
END:VEVENT
END:VCALENDAR
