BEGIN:VCALENDAR
VERSION:2.0
BEGIN:VEVENT
UID:ics69e73085762bc
DTSTAMP:20260421T080837Z
LOCATION:Hamburg
DESCRIPTION:
URL:https://www.junge-nordkirche.de/programm/peer-to-peer-p2p-einfuehrungskurs-fuer-junge-menschen/
SUMMARY:Einführungskurs in die P2P-Seelsorge für junge Menschen
DTSTART:20230602T160000Z
DTEND:20230604T120000Z
END:VEVENT
END:VCALENDAR
