BEGIN:VCALENDAR
VERSION:2.0
BEGIN:VEVENT
UID:ics69ea977e07c44
DTSTAMP:20260423T220446Z
LOCATION:
DESCRIPTION:
URL:https://www.junge-nordkirche.de/programm/p2p/
SUMMARY:P2P | Peer-to-Peer Seelsorge
DTSTART:20240927T113200Z
DTEND:20250715T113200Z
END:VEVENT
END:VCALENDAR
