BEGIN:VCALENDAR
VERSION:2.0
BEGIN:VEVENT
UID:ics69e7315053e37
DTSTAMP:20260421T081200Z
LOCATION:Referat Kinder und Jugend\, Lange Reihe 2\, Hamburg
DESCRIPTION:
URL:https://www.junge-nordkirche.de/programm/next-level-berufsorientierungstag/
SUMMARY:Next Level - Finde deinen Berufsweg
DTSTART:20230204T070000Z
DTEND:20230204T140000Z
END:VEVENT
END:VCALENDAR
