BEGIN:VCALENDAR
VERSION:2.0
BEGIN:VEVENT
UID:ics69ea815eee090
DTSTAMP:20260423T203022Z
LOCATION:Digital per Zoom
DESCRIPTION:
URL:https://www.junge-nordkirche.de/programm/neuer-wehrdienst-seminar/
SUMMARY:Neuer Wehrdienst – Was kommt auf junge Menschen zu?
DTSTART:20251120T070000Z
DTEND:20251120T090000Z
END:VEVENT
END:VCALENDAR
