BEGIN:VCALENDAR
VERSION:2.0
BEGIN:VEVENT
UID:ics69e7464ca079c
DTSTAMP:20260421T094132Z
LOCATION:St. Ansgar Haus\, Schmilinskystr. 78\, 20099 Hamburg
DESCRIPTION:
URL:https://www.junge-nordkirche.de/programm/landeskirchlicher-konvent-schulseelsorge-2023/
SUMMARY:Landeskirchlicher Konvent Schulseelsorge 2023 
DTSTART:20231124T130000Z
DTEND:20231125T130000Z
END:VEVENT
END:VCALENDAR
