BEGIN:VCALENDAR
VERSION:2.0
BEGIN:VEVENT
UID:ics69ea810579dbd
DTSTAMP:20260423T202853Z
LOCATION:Akademie am See\, Plön
DESCRIPTION:
URL:https://www.junge-nordkirche.de/programm/kurzgespraech-grundkurs-2025/
SUMMARY:„Kann ich Sie mal kurz sprechen?“- Das Kurzgespräch als Methode seelsorglichen Handelns
DTSTART:20250926T140000Z
DTEND:20250928T110000Z
END:VEVENT
END:VCALENDAR
