BEGIN:VCALENDAR
VERSION:2.0
BEGIN:VEVENT
UID:ics69e731fee047f
DTSTAMP:20260421T081454Z
LOCATION:
DESCRIPTION:
URL:https://www.junge-nordkirche.de/programm/kreatives-schreiben/
SUMMARY:Am Anfang war das Wort
DTSTART:20240620T143000Z
DTEND:20240620T160000Z
END:VEVENT
END:VCALENDAR
