BEGIN:VCALENDAR
VERSION:2.0
BEGIN:VEVENT
UID:ics69ea80d231f45
DTSTAMP:20260423T202802Z
LOCATION:Domkloster Gästehaus\, Ratzeburg
DESCRIPTION:
URL:https://www.junge-nordkirche.de/programm/konvent-schulseelsorge-2025/
SUMMARY:„Zwischen Zweifel und Zuversicht – wie Schulseelsorge stärken kann“
DTSTART:20251010T140000Z
DTEND:20251011T140000Z
END:VEVENT
END:VCALENDAR
