BEGIN:VCALENDAR
VERSION:2.0
BEGIN:VEVENT
UID:ics69e769743e49d
DTSTAMP:20260421T121132Z
LOCATION:
DESCRIPTION:
URL:https://www.junge-nordkirche.de/programm/klimateamerinnen-winterwochenende/
SUMMARY:KlimaTeamer*innen Winterwochenende
DTSTART:20241108T130000Z
DTEND:20241110T090000Z
END:VEVENT
END:VCALENDAR
