BEGIN:VCALENDAR
VERSION:2.0
BEGIN:VEVENT
UID:ics69ecc1ac2a4ac
DTSTAMP:20260425T132916Z
LOCATION:digital
DESCRIPTION:
URL:https://www.junge-nordkirche.de/programm/klimaangst/
SUMMARY:Klimaangst verstehen – Junge Menschen zwischen Ohnmacht und Handlungsspielraum
DTSTART:20260623T143000Z
DTEND:20260623T160000Z
END:VEVENT
END:VCALENDAR
