BEGIN:VCALENDAR
VERSION:2.0
BEGIN:VEVENT
UID:ics69ecc2dc0c28a
DTSTAMP:20260425T133420Z
LOCATION:
DESCRIPTION:
URL:https://www.junge-nordkirche.de/programm/kirchentag27/
SUMMARY:Kirchentag Kreativ-Treffen
DTSTART:20260613T080000Z
DTEND:20260613T140000Z
END:VEVENT
END:VCALENDAR
