BEGIN:VCALENDAR
VERSION:2.0
BEGIN:VEVENT
UID:ics69e730858535b
DTSTAMP:20260421T080837Z
LOCATION:
DESCRIPTION:
URL:https://www.junge-nordkirche.de/programm/kirchentag/
SUMMARY:Kirchentags-Planung 
DTSTART:20241127T160500Z
DTEND:20241127T180600Z
END:VEVENT
END:VCALENDAR
