BEGIN:VCALENDAR
VERSION:2.0
BEGIN:VEVENT
UID:ics69e7459774187
DTSTAMP:20260421T093831Z
LOCATION:
DESCRIPTION:
URL:https://www.junge-nordkirche.de/programm/kann-ich-sie-mal-kurz-sprechen-1/
SUMMARY:Kann ich Sie mal kurz sprechen
DTSTART:20220923T140000Z
DTEND:20231105T100000Z
END:VEVENT
END:VCALENDAR
