BEGIN:VCALENDAR
VERSION:2.0
BEGIN:VEVENT
UID:ics69e732fb0b616
DTSTAMP:20260421T081907Z
LOCATION:Digital per Zoom
DESCRIPTION:
URL:https://www.junge-nordkirche.de/programm/jugendfreizeiten-vielfaltssensibel/
SUMMARY:Wie gestalte ich Kinder- und Jugendfreizeiten vielfaltssensibel? 
DTSTART:20250225T150000Z
DTEND:20250225T163000Z
END:VEVENT
END:VCALENDAR
