BEGIN:VCALENDAR
VERSION:2.0
BEGIN:VEVENT
UID:ics69e7346970618
DTSTAMP:20260421T082513Z
LOCATION:
DESCRIPTION:
URL:https://www.junge-nordkirche.de/programm/infotreffen-csd/
SUMMARY:InfoTreffen CSD
DTSTART:20230707T120000Z
DTEND:19691231T210000Z
END:VEVENT
END:VCALENDAR
