BEGIN:VCALENDAR
VERSION:2.0
BEGIN:VEVENT
UID:ics69e73033a983c
DTSTAMP:20260421T080715Z
LOCATION:digital\, per Zoom 
DESCRIPTION:
URL:https://www.junge-nordkirche.de/programm/ideolektik/
SUMMARY:Ideolektik
DTSTART:20241015T150000Z
DTEND:20241015T170000Z
END:VEVENT
END:VCALENDAR
