BEGIN:VCALENDAR
VERSION:2.0
BEGIN:VEVENT
UID:ics69e730a76a95d
DTSTAMP:20260421T080911Z
LOCATION:
DESCRIPTION:
URL:https://www.junge-nordkirche.de/programm/hybride-juleica1/
SUMMARY:JULEICA Grundausbildung - hybrid und berufsbegleitend 
DTSTART:20250215T070000Z
DTEND:20250524T160000Z
END:VEVENT
END:VCALENDAR
