BEGIN:VCALENDAR
VERSION:2.0
BEGIN:VEVENT
UID:ics69ea812d4da02
DTSTAMP:20260423T202933Z
LOCATION:Missionsakademie der Universität Hamburg
DESCRIPTION:
URL:https://www.junge-nordkirche.de/programm/hsn-ausbildung/
SUMMARY:Helfen in Seelischer Not –  Anleiter*innen Ausbildung für psychische Erste Hilfe
DTSTART:20251013T120000Z
DTEND:20251015T120000Z
END:VEVENT
END:VCALENDAR
