BEGIN:VCALENDAR
VERSION:2.0
BEGIN:VEVENT
UID:ics69ea98d289113
DTSTAMP:20260423T221026Z
LOCATION:Online über Zoom
DESCRIPTION:
URL:https://www.junge-nordkirche.de/programm/how-to-schreibenstattschweigen-1403034/
SUMMARY:How To #schreibenstattschweigen
DTSTART:20240829T173000Z
DTEND:20240829T183000Z
END:VEVENT
END:VCALENDAR
