BEGIN:VCALENDAR
VERSION:2.0
BEGIN:VEVENT
UID:ics69ea80d7e5651
DTSTAMP:20260423T202807Z
LOCATION:Jugendherberge Scharbeutz
DESCRIPTION:
URL:https://www.junge-nordkirche.de/programm/herbstvv-nkjv-2025/
SUMMARY:Herbst-Vollversammlung der Nordkirchen Kinder- und Jugendvertretung
DTSTART:20251010T150000Z
DTEND:20251012T120000Z
END:VEVENT
END:VCALENDAR
