BEGIN:VCALENDAR
VERSION:2.0
BEGIN:VEVENT
UID:ics69e7325824d72
DTSTAMP:20260421T081624Z
LOCATION:
DESCRIPTION:
URL:https://www.junge-nordkirche.de/programm/herbstvollversammlung-der-nordkirchenjugendvertretung/
SUMMARY:Herbstvollversammlung der Nordkirchen Kinder- und Jugendvertretung
DTSTART:20221104T140000Z
DTEND:20221106T100000Z
END:VEVENT
END:VCALENDAR
