BEGIN:VCALENDAR
VERSION:2.0
BEGIN:VEVENT
UID:ics69e732de0f760
DTSTAMP:20260421T081838Z
LOCATION:
DESCRIPTION:
URL:https://www.junge-nordkirche.de/programm/fruehjahrstagung-der-kirchenkreis-kinder-und-jugendwerke/
SUMMARY:Frühjahrstagung der Kirchenkreis Kinder- und Jugendwerke
DTSTART:20230323T120000Z
DTEND:20230326T150000Z
END:VEVENT
END:VCALENDAR
