BEGIN:VCALENDAR
VERSION:2.0
BEGIN:VEVENT
UID:ics69ea8178b3b38
DTSTAMP:20260423T203048Z
LOCATION:Hamburg\, Fliedersaal Kirchengemeinde Altona-Ost\, Bei der Johanniskirche 16 
DESCRIPTION:
URL:https://www.junge-nordkirche.de/programm/freizeitenwerkstatt2025/
SUMMARY:Freizeiten stark machen – Werkstatt Treffen Kinder- und Jugendfreizeiten
DTSTART:20251107T140000Z
DTEND:20251107T170000Z
END:VEVENT
END:VCALENDAR
