BEGIN:VCALENDAR
VERSION:2.0
BEGIN:VEVENT
UID:ics69e5fe3a8c27f
DTSTAMP:20260420T102146Z
LOCATION:Diakonisches Werk Hamburg
DESCRIPTION:
URL:https://www.junge-nordkirche.de/programm/fortbildung-praevention-sexualisierte-gewalt-1411401/
SUMMARY:Fortbildung Prävention sexualisierte Gewalt
DTSTART:20241210T070000Z
DTEND:20241210T140000Z
END:VEVENT
END:VCALENDAR
