BEGIN:VCALENDAR
VERSION:2.0
BEGIN:VEVENT
UID:ics69e8eff9cc5e5
DTSTAMP:20260422T155745Z
LOCATION:Wismar
DESCRIPTION:
URL:https://www.junge-nordkirche.de/programm/fachtag-kinder-und-jugendarmut/
SUMMARY:Kinder- und Jugendarmut im Fokus: Gemeinsam für eine gerechte Zukunft!
DTSTART:20241016T080000Z
DTEND:20241016T141500Z
END:VEVENT
END:VCALENDAR
