BEGIN:VCALENDAR
VERSION:2.0
BEGIN:VEVENT
UID:ics69ea93a69541b
DTSTAMP:20260423T214822Z
LOCATION:
DESCRIPTION:
URL:https://www.junge-nordkirche.de/programm/erfahrungen-und-perspektiven-junger-menschen-waehrend-der-corona-massnahmen-ergebnisse-der-bundesweiten-juco-studie/
SUMMARY:Erfahrungen und Perspektiven während der Corona-Maßnahmen 
DTSTART:20210121T130000Z
DTEND:19691231T210000Z
END:VEVENT
END:VCALENDAR
