BEGIN:VCALENDAR
VERSION:2.0
BEGIN:VEVENT
UID:ics69e73125507b3
DTSTAMP:20260421T081117Z
LOCATION:Kirchengemeinde St. Jakobi\, Jakobikirchhof 1 23552 Lübeck
DESCRIPTION:
URL:https://www.junge-nordkirche.de/programm/einfuehrung/
SUMMARY:Einführung von Katharina Schunck 
DTSTART:20250326T153000Z
DTEND:20250326T180000Z
END:VEVENT
END:VCALENDAR
