BEGIN:VCALENDAR
VERSION:2.0
BEGIN:VEVENT
UID:ics69e72f506d5b4
DTSTAMP:20260421T080328Z
LOCATION:Digital
DESCRIPTION:
URL:https://www.junge-nordkirche.de/programm/depressionen-schule/
SUMMARY:Depressionen bei Schülerinnen und Schülern - Verstehen und Begleiten
DTSTART:20250527T143000Z
DTEND:20250527T160000Z
END:VEVENT
END:VCALENDAR
