BEGIN:VCALENDAR
VERSION:2.0
BEGIN:VEVENT
UID:ics69e7321003ef7
DTSTAMP:20260421T081512Z
LOCATION:
DESCRIPTION:
URL:https://www.junge-nordkirche.de/programm/csd-rostock/
SUMMARY:Austausch und Planung CSD Rostock
DTSTART:20240419T150000Z
DTEND:20240502T163000Z
END:VEVENT
END:VCALENDAR
