BEGIN:VCALENDAR
VERSION:2.0
BEGIN:VEVENT
UID:ics69ea983f80746
DTSTAMP:20260423T220759Z
LOCATION:Online über Zoom
DESCRIPTION:
URL:https://www.junge-nordkirche.de/programm/chat-beratung-einfuehrungskurs-digitale-jugendseelsorge-1403037/
SUMMARY:Kompaktkurs digitale Jugendseelsorge #schreibenstattschweigen
DTSTART:20240924T170000Z
DTEND:20241015T190000Z
END:VEVENT
END:VCALENDAR
