BEGIN:VCALENDAR
VERSION:2.0
BEGIN:VEVENT
UID:ics69e730ac96145
DTSTAMP:20260421T080916Z
LOCATION:
DESCRIPTION:
URL:https://www.junge-nordkirche.de/programm/beteiligung-kirchenkreissynode/
SUMMARY:Beteiligung und Begleitung junger Menschen in Kirchenkreissynoden am 28. August
DTSTART:20240828T160000Z
DTEND:20240828T181500Z
END:VEVENT
END:VCALENDAR
