BEGIN:VCALENDAR
VERSION:2.0
BEGIN:VEVENT
UID:ics69e7327e24fff
DTSTAMP:20260421T081702Z
LOCATION:
DESCRIPTION:
URL:https://www.junge-nordkirche.de/programm/beteiligung-kirchenkreissynode-2/
SUMMARY:Beteiligung und Begleitung junger Menschen in Kirchenkreissynoden am 3. September
DTSTART:20240903T160000Z
DTEND:20240903T181500Z
END:VEVENT
END:VCALENDAR
