BEGIN:VCALENDAR
VERSION:2.0
BEGIN:VEVENT
UID:ics69e733597cfe1
DTSTAMP:20260421T082041Z
LOCATION:
DESCRIPTION:
URL:https://www.junge-nordkirche.de/programm/berufsorientierungstag/
SUMMARY:Berufsorientierungstag
DTSTART:20220917T080000Z
DTEND:20220917T140000Z
END:VEVENT
END:VCALENDAR
