BEGIN:VCALENDAR
VERSION:2.0
BEGIN:VEVENT
UID:ics69e731fee1067
DTSTAMP:20260421T081454Z
LOCATION:
DESCRIPTION:
URL:https://www.junge-nordkirche.de/programm/ausbildungen-fuer-teamerinnen-gestalten-2/
SUMMARY:Ausbildungen für Teamer*innen gestalten 2020
DTSTART:20210503T173000Z
DTEND:19691231T210000Z
END:VEVENT
END:VCALENDAR
