BEGIN:VCALENDAR
VERSION:2.0
BEGIN:VEVENT
UID:ics69e4dfc81fd8f
DTSTAMP:20260419T135936Z
LOCATION:
DESCRIPTION:
URL:https://www.junge-nordkirche.de/programm/auffrischungskurs-kurzgespraech/
SUMMARY:Auffrischungskurs Kurzgespräch
DTSTART:20210518T140000Z
DTEND:19691231T210000Z
END:VEVENT
END:VCALENDAR
