BEGIN:VCALENDAR
VERSION:2.0
BEGIN:VEVENT
UID:ics69e9dbfe72e45
DTSTAMP:20260423T084446Z
LOCATION:St. Ansgarhaus
DESCRIPTION:
URL:https://www.junge-nordkirche.de/programm/alpika-schulseelsorge/
SUMMARY:ALPIKA Schulseelsorge
DTSTART:20240314T103000Z
DTEND:20240315T100000Z
END:VEVENT
END:VCALENDAR
