BEGIN:VCALENDAR
VERSION:2.0
BEGIN:VEVENT
UID:ics69ea971df3658
DTSTAMP:20260423T220309Z
LOCATION:Lübeck
DESCRIPTION:
URL:https://www.junge-nordkirche.de/programm/achterwind/
SUMMARY:Rückenwind gefällig? Unser BarCamp Achterwind 2024
DTSTART:20241001T080000Z
DTEND:20241002T120000Z
END:VEVENT
END:VCALENDAR
