BEGIN:VCALENDAR
VERSION:2.0
BEGIN:VEVENT
UID:ics69ea80ffa247b
DTSTAMP:20260423T202847Z
LOCATION:
DESCRIPTION:
URL:https://www.junge-nordkirche.de/bestellung/methodenhandbuch/
SUMMARY:Klimabildung: Methodenhandbuch 
DTSTART:20220101T094200Z
DTEND:19691231T210000Z
END:VEVENT
END:VCALENDAR
